BEGIN:VCALENDAR
VERSION:2.0
PRODID:-//wp-events-plugin.com//7.0.5//EN
BEGIN:VEVENT
UID:100@sarcoma-patients.org
DTSTART:20260508T070000Z
DTEND:20260508T133000Z
DTSTAMP:20260420T110020Z
URL:https://www.sarcoma-patients.org/events/tgct-day-of-learning/
SUMMARY:TGCT Day of Learning
DESCRIPTION:There are TWO TGCT Day of Learning (TDOL) conferences for patie
 nts this year! One in Nashville\, TN and one in Leiden\, Netherlands! \n\n
 A TDOL is a free day event to help TGCT patients and caregivers learn more
  about this rare disease\, find support\, and enhance their knowledge base
  to help them navigate their journey. TDOL in Leiden Netherlands is hosted
  on May 08\, 2026 at 9:30 AM - 3:00 PM EST at Leiden University Medical Ce
 nter ! Experts from LUMC will be presenting. \n\nRegister here! 
ATTACH;FMTTYPE=image/jpeg:https://www.sarcoma-patients.org/wp-content/uplo
 ads/tgct.png
LOCATION:Leiden\, Leiden University Medical Center (LUMC)\, Leiden \, Nethe
 rlands
X-APPLE-STRUCTURED-LOCATION;VALUE=URI;X-ADDRESS=Leiden University Medical C
 enter (LUMC)\, Leiden \, Netherlands;X-APPLE-RADIUS=100;X-TITLE=Leiden:geo
 :0,0
END:VEVENT
END:VCALENDAR